BEGIN:VCALENDAR
VERSION:2.0
PRODID:-//eventon.com NONSGML v1.0//EN
CALSCALE:GREGORIAN
METHOD:PUBLISH
BEGIN:VEVENT
UID:69eb0e66ade09
DTSTAMP:20260424T063206Z
DTSTART:20240229T110000Z
DTEND:20240229T140000Z
LOCATION:Element Vegetarian Restaurant #51A Street 306
SUMMARY:Destination Mekong Appreciation Party
DESCRIPTION:Celebrate with us! Destination Mekong Appreciation Party! Dear 
 colleague\,  Dear friend\,   We are thrilled to invite you to our Destina
 tion Mekong Appreciation Party\,  as a heartfelt thank you for your invalua
 ble support to Destination Mekong and the Destination Mekong Summit 2023. T
 ogether\,  let&#8217;s raise a glass and celebrate your contributions as[..
 ]\nhttps://www.destinationmekong.com/events/destination-mekong-appreciation
 -party/
URL:https://www.destinationmekong.com/events/destination-mekong-appreciation-party/
END:VEVENT
END:VCALENDAR