BEGIN:VCALENDAR
VERSION:2.0
PRODID:-//eventon.com NONSGML v1.0//EN
CALSCALE:GREGORIAN
METHOD:PUBLISH
BEGIN:VEVENT
UID:69e7ea9d21364
DTSTAMP:20260421T212237Z
DTSTART:20210330T070000Z
DTEND:20210330T165000Z
LOCATION:
SUMMARY:7th MeTAG Expert Group Call (Academia & Research)
DESCRIPTION:The Expert Groups of the Mekong Tourism Advisory Group (MeTAG) 
 are closed communities of MeTAG members\,  who are specialized in specific 
 topics. These expert working groups launch initiatives\,  and create soluti
 ons for the thematic area.\nhttps://www.destinationmekong.com/events/7th-me
 tag-expert-group-call-food-agro-tourism/
URL:https://www.destinationmekong.com/events/7th-metag-expert-group-call-food-agro-tourism/
END:VEVENT
END:VCALENDAR