BEGIN:VCALENDAR
VERSION:2.0
PRODID:-//eventon.com NONSGML v1.0//EN
CALSCALE:GREGORIAN
METHOD:PUBLISH
BEGIN:VEVENT
UID:69e56330dc512
DTSTAMP:20260419T232016Z
DTSTART:20210318T080000Z
DTEND:20210318T165000Z
LOCATION:
SUMMARY:4th MeTAG Meeting
DESCRIPTION:The Expert Groups of the Mekong Tourism Advisory Group (MeTAG) 
 are closed communities of MeTAG members\,  who are specialized in specific 
 topics. These expert working groups launch initiatives\,  and create soluti
 ons for the thematic area.\nhttps://www.destinationmekong.com/events/4th-me
 tag-meeting/
URL:https://www.destinationmekong.com/events/4th-metag-meeting/
END:VEVENT
END:VCALENDAR